BEGIN:VCALENDAR
VERSION:2.0
PRODID:icalendar-ruby
CALSCALE:GREGORIAN
METHOD:PUBLISH
BEGIN:VEVENT
DTSTAMP:20260420T102923Z
UID:56-492553@hcctacoma.org
DTSTART:20260808T150000Z
DTEND:20260808T160000Z
CLASS:PUBLIC
CREATED:20260419T232016
DESCRIPTION:
LAST-MODIFIED:20260419T232016
LOCATION:8004 44th St W University Place\, Washington 98466
SUMMARY:Prayer Meeting
URL;VALUE=URI:https://www.hcctacoma.org/events/prayer-meeting--56/2026-08-0
 8
ATTACH;FILENAME=prayer.png;FMTTYPE=image/png:https://dq5pwpg1q8ru0.cloudfro
 nt.net/2026/04/16/09/26/47/7246c26a-1d92-4a39-bc5f-be914e639d0a/prayer.png
END:VEVENT
END:VCALENDAR
